BEGIN:VCALENDAR
VERSION:2.0
PRODID:-//hacksw/handcal//NONSGML v1.0//EN
CALSCALE:GREGORIAN
BEGIN:VEVENT
LOCATION:Girona
DESCRIPTION:
DTSTART:20161217T080000Z
DTEND:20170415T160000Z
SUMMARY:Exposició: "De l'amor és lo jardí". Masó i els teixits
URL;VALUE=URI:https://arquitectes.cat/ca/content/exposici%C3%B3-de-lamor-%C3%A9s-lo-jard%C3%AD-mas%C3%B3-i-els-teixits
DTSTAMP:20260420T033435Z
UID:69e582ab5b29c
END:VEVENT
END:VCALENDAR