BEGIN:VCALENDAR
VERSION:2.0
PRODID:-//hacksw/handcal//NONSGML v1.0//EN
CALSCALE:GREGORIAN
BEGIN:VEVENT
LOCATION:Girona
DESCRIPTION:
DTSTART:20161228T083000Z
DTEND:20161229T120000Z
SUMMARY:Taller infantil: "Dits petits per a brodats genials. Flors\, ocells i lletres a la Casa Masó" 
URL;VALUE=URI:https://arquitectes.cat/ca/content/taller-infantil-dits-petits-brodats-genials-flors-ocells-i-lletres-la-casa-mas%C3%B3
DTSTAMP:20260419T233123Z
UID:69e549ab0f260
END:VEVENT
END:VCALENDAR