BEGIN:VCALENDAR
VERSION:2.0
PRODID:-//hacksw/handcal//NONSGML v1.0//EN
CALSCALE:GREGORIAN
BEGIN:VEVENT
LOCATION:Barcelona
DESCRIPTION:
DTSTART:20161130T200000Z
DTEND:20161222T200000Z
SUMMARY:Exposició: "Un inici\, un final. 19 Projectes Finals De Carrera"
URL;VALUE=URI:https://arquitectes.cat/ca/content/exposici%C3%B3-un-inici-un-final-19-projectes-finals-de-carrera
DTSTAMP:20260422T051125Z
UID:69e83c5daaaae
END:VEVENT
END:VCALENDAR