BEGIN:VCALENDAR
VERSION:2.0
PRODID:-//hacksw/handcal//NONSGML v1.0//EN
CALSCALE:GREGORIAN
BEGIN:VEVENT
LOCATION:Barcelona
DESCRIPTION:
DTSTART:20161104T120000Z
DTEND:20170319T120000Z
SUMMARY:Exposició: "Gelatina dura. Històries escamotejades dels 80"
URL;VALUE=URI:https://arquitectes.cat/ca/content/exposici%C3%B3-gelatina-dura-hist%C3%B2ries-escamotejades-dels-80
DTSTAMP:20260419T162904Z
UID:69e4e6b01e739
END:VEVENT
END:VCALENDAR