BEGIN:VCALENDAR
VERSION:2.0
PRODID:-//hacksw/handcal//NONSGML v1.0//EN
CALSCALE:GREGORIAN
BEGIN:VEVENT
LOCATION:Barcelona
DESCRIPTION:
DTSTART:20161125T153000Z
DTEND:20161125T153000Z
SUMMARY:Jornadas de Sintesis: CLAUSURA
URL;VALUE=URI:https://arquitectes.cat/ca/node/25887
DTSTAMP:20260425T040303Z
UID:69ec20d79b586
END:VEVENT
END:VCALENDAR