BEGIN:VCALENDAR
VERSION:2.0
PRODID:-//hacksw/handcal//NONSGML v1.0//EN
CALSCALE:GREGORIAN
BEGIN:VEVENT
LOCATION:Barcelona
DESCRIPTION:
DTSTART:20161124T073000Z
DTEND:20161124T073000Z
SUMMARY:Jornades de Sintesi: COMPROMÍS
URL;VALUE=URI:https://arquitectes.cat/ca/content/jornades-de-sintesi-comprom%C3%ADs-0
DTSTAMP:20260419T205553Z
UID:69e525390b10d
END:VEVENT
END:VCALENDAR