BEGIN:VCALENDAR
VERSION:2.0
PRODID:-//hacksw/handcal//NONSGML v1.0//EN
CALSCALE:GREGORIAN
BEGIN:VEVENT
LOCATION:Barcelona
DESCRIPTION:
DTSTART:20161201T170000Z
DTEND:20161201T170000Z
SUMMARY:Inauguració de la PopUp LaCapell by VITRA+ARTEK
URL;VALUE=URI:https://arquitectes.cat/ca/content/inauguraci%C3%B3-de-la-popup-lacapell-vitraartek
DTSTAMP:20260419T214802Z
UID:69e53172c34b2
END:VEVENT
END:VCALENDAR