BEGIN:VCALENDAR
VERSION:2.0
PRODID:-//hacksw/handcal//NONSGML v1.0//EN
CALSCALE:GREGORIAN
BEGIN:VEVENT
LOCATION:Barcelona
DESCRIPTION:
DTSTART:20161125T180000Z
DTEND:20161125T180000Z
SUMMARY:Fiesta de clausura del Congreso en el Mercat de Sant Antoni
URL;VALUE=URI:https://arquitectes.cat/ca/node/25869
DTSTAMP:20260421T223025Z
UID:69e7de6188c87
END:VEVENT
END:VCALENDAR