BEGIN:VCALENDAR
VERSION:2.0
PRODID:-//hacksw/handcal//NONSGML v1.0//EN
CALSCALE:GREGORIAN
BEGIN:VEVENT
LOCATION:Barcelona
DESCRIPTION:
DTSTART:20161201T170000Z
DTEND:20161201T170000Z
SUMMARY:Development by Design. 1st lecture: Grassroots Urbanism. New Leadership in Architectural Practice / Alejandro Hayek
URL;VALUE=URI:https://arquitectes.cat/ca/node/25864
DTSTAMP:20260420T071717Z
UID:69e5b6dd068e8
END:VEVENT
END:VCALENDAR