BEGIN:VCALENDAR
VERSION:2.0
PRODID:-//hacksw/handcal//NONSGML v1.0//EN
CALSCALE:GREGORIAN
BEGIN:VEVENT
LOCATION:Barcelona
DESCRIPTION:
DTSTART:20161127T100000Z
DTEND:20161127T100000Z
SUMMARY:Itinerari: El Born\, sis segles de progrés comercial
URL;VALUE=URI:https://arquitectes.cat/ca/content/itinerari-el-born-sis-segles-de-progr%C3%A9s-comercial-2
DTSTAMP:20260419T195613Z
UID:69e5173d68304
END:VEVENT
END:VCALENDAR