BEGIN:VCALENDAR
VERSION:2.0
PRODID:-//hacksw/handcal//NONSGML v1.0//EN
CALSCALE:GREGORIAN
BEGIN:VEVENT
LOCATION:Barcelona
DESCRIPTION:
DTSTART:20161123T170000Z
DTEND:20161123T170000Z
SUMMARY:Syria self Portrait. Silvered water. Monuments\, restes\, vulneracions i impunitat (III)
URL;VALUE=URI:https://arquitectes.cat/ca/content/syria-self-portrait-silvered-water-monuments-restes-vulneracions-i-impunitat-iii
DTSTAMP:20260420T053619Z
UID:69e59f33205c0
END:VEVENT
END:VCALENDAR