BEGIN:VCALENDAR
VERSION:2.0
PRODID:-//hacksw/handcal//NONSGML v1.0//EN
CALSCALE:GREGORIAN
BEGIN:VEVENT
LOCATION:Sant Cugat del Vallès
DESCRIPTION:
DTSTART:20161115T100000Z
DTEND:20161115T100000Z
SUMMARY:Itinerància de l'exposició de la 7a Mostra d’Arquitectura del Vallès
URL;VALUE=URI:https://arquitectes.cat/ca/content/itiner%C3%A0ncia-de-lexposici%C3%B3-de-la-7a-mostra-d%E2%80%99arquitectura-del-vall%C3%A8s
DTSTAMP:20260419T151921Z
UID:69e4d65983a9a
END:VEVENT
END:VCALENDAR