BEGIN:VCALENDAR
VERSION:2.0
PRODID:-//hacksw/handcal//NONSGML v1.0//EN
CALSCALE:GREGORIAN
BEGIN:VEVENT
LOCATION:Barcelona
DESCRIPTION:
DTSTART:20161121T073000Z
DTEND:20170121T113000Z
SUMMARY:Exposició "Metròpolis Verda"
URL;VALUE=URI:https://arquitectes.cat/ca/content/exposici%C3%B3-metro%CC%80polis-verda
DTSTAMP:20260422T205532Z
UID:69e919a435e33
END:VEVENT
END:VCALENDAR