BEGIN:VCALENDAR
VERSION:2.0
PRODID:-//hacksw/handcal//NONSGML v1.0//EN
CALSCALE:GREGORIAN
BEGIN:VEVENT
LOCATION:Tarragona
DESCRIPTION:
DTSTART:20161222T173000Z
DTEND:20161222T173000Z
SUMMARY:Conferència InTESIS: Anàlisi del procés de construcció - deconstrucció de la Catedral de Tortosa
URL;VALUE=URI:https://arquitectes.cat/ca/content/confer%C3%A8ncia-intesis-an%C3%A0lisi-del-proc%C3%A9s-de-construcci%C3%B3-deconstrucci%C3%B3-de-la-catedral-de
DTSTAMP:20260419T145131Z
UID:69e4cfd31dfb8
END:VEVENT
END:VCALENDAR