BEGIN:VCALENDAR
VERSION:2.0
PRODID:-//hacksw/handcal//NONSGML v1.0//EN
CALSCALE:GREGORIAN
BEGIN:VEVENT
LOCATION:Barcelona
DESCRIPTION:
DTSTART:20161110T103000Z
DTEND:20161110T103000Z
SUMMARY:Visita de l'AADIPA a Cerdanyola del Vallès\, Montmeló i Mataró
URL;VALUE=URI:https://arquitectes.cat/ca/content/visita-de-laadipa-cerdanyola-del-vall%C3%A8s-montmel%C3%B3-i-matar%C3%B3
DTSTAMP:20260422T124656Z
UID:69e8a720a5a35
END:VEVENT
END:VCALENDAR