BEGIN:VCALENDAR
VERSION:2.0
PRODID:-//hacksw/handcal//NONSGML v1.0//EN
CALSCALE:GREGORIAN
BEGIN:VEVENT
LOCATION:Barcelona
DESCRIPTION:
DTSTART:20161118T170000Z
DTEND:20161118T170000Z
SUMMARY:Recull de Mostres d'Arquitectura
URL;VALUE=URI:https://arquitectes.cat/ca/node/25758
DTSTAMP:20260420T035921Z
UID:69e588798940a
END:VEVENT
END:VCALENDAR