BEGIN:VCALENDAR
VERSION:2.0
PRODID:-//hacksw/handcal//NONSGML v1.0//EN
CALSCALE:GREGORIAN
BEGIN:VEVENT
LOCATION:Barcelona
DESCRIPTION:
DTSTART:20161028T070000Z
DTEND:20161028T070000Z
SUMMARY:Jornada del Congreso sobre Arquitectura y Cooperación
URL;VALUE=URI:https://arquitectes.cat/ca/node/25707
DTSTAMP:20260422T123802Z
UID:69e8a50a32c85
END:VEVENT
END:VCALENDAR