BEGIN:VCALENDAR
VERSION:2.0
PRODID:-//hacksw/handcal//NONSGML v1.0//EN
CALSCALE:GREGORIAN
BEGIN:VEVENT
LOCATION:Barcelona
DESCRIPTION:
DTSTART:20161104T170000Z
DTEND:20161104T170000Z
SUMMARY:9a sesión del Ecumenópolis: "Flotel Europa"
URL;VALUE=URI:https://arquitectes.cat/ca/node/25693
DTSTAMP:20260419T154051Z
UID:69e4db63622f5
END:VEVENT
END:VCALENDAR