BEGIN:VCALENDAR
VERSION:2.0
PRODID:-//hacksw/handcal//NONSGML v1.0//EN
CALSCALE:GREGORIAN
BEGIN:VEVENT
LOCATION:
DESCRIPTION:
DTSTART:20161104T150000Z
DTEND:20161104T150000Z
SUMMARY:Teixint territori. Reflexions sobre el Maresme
URL;VALUE=URI:https://arquitectes.cat/ca/content/teixint-territori-reflexions-sobre-el-maresme
DTSTAMP:20260419T181057Z
UID:69e4fe91a5be1
END:VEVENT
END:VCALENDAR