BEGIN:VCALENDAR
VERSION:2.0
PRODID:-//hacksw/handcal//NONSGML v1.0//EN
CALSCALE:GREGORIAN
BEGIN:VEVENT
LOCATION:Barcelona
DESCRIPTION:
DTSTART:20161026T170000Z
DTEND:20161026T170000Z
SUMMARY:Berenars literaris: Els Güell 
URL;VALUE=URI:https://arquitectes.cat/ca/content/berenars-literaris-els-g%C3%BCell
DTSTAMP:20260419T200930Z
UID:69e51a5a9a57b
END:VEVENT
END:VCALENDAR