BEGIN:VCALENDAR
VERSION:2.0
PRODID:-//hacksw/handcal//NONSGML v1.0//EN
CALSCALE:GREGORIAN
BEGIN:VEVENT
LOCATION:Barcelona
DESCRIPTION:
DTSTART:20161028T063000Z
DTEND:20161028T063000Z
SUMMARY:Cartografia històrica i actual aplicada a l'arquitectura i l'urbanisme
URL;VALUE=URI:https://arquitectes.cat/ca/content/cartografia-hist%C3%B2rica-i-actual-aplicada-larquitectura-i-lurbanisme
DTSTAMP:20260419T205838Z
UID:69e525de21d61
END:VEVENT
END:VCALENDAR