BEGIN:VCALENDAR
VERSION:2.0
PRODID:-//hacksw/handcal//NONSGML v1.0//EN
CALSCALE:GREGORIAN
BEGIN:VEVENT
LOCATION:Barcelona
DESCRIPTION:
DTSTART:20161024T160000Z
DTEND:20161104T160000Z
SUMMARY:Exposició: "Arquitectura al Paisatge Pirinenc"
URL;VALUE=URI:https://arquitectes.cat/ca/content/exposici%C3%B3-arquitectura-al-paisatge-pirinenc
DTSTAMP:20260422T020916Z
UID:69e811ace4160
END:VEVENT
END:VCALENDAR