BEGIN:VCALENDAR
VERSION:2.0
PRODID:-//hacksw/handcal//NONSGML v1.0//EN
CALSCALE:GREGORIAN
BEGIN:VEVENT
LOCATION:Barcelona
DESCRIPTION:
DTSTART:20161026T173000Z
DTEND:20161026T173000Z
SUMMARY:Xerrada-debat: Del Mercat de les Flors al Paral·lel
URL;VALUE=URI:https://arquitectes.cat/ca/content/xerrada-debat-del-mercat-de-les-flors-al-paral%C2%B7lel
DTSTAMP:20260420T034114Z
UID:69e5843ad4640
END:VEVENT
END:VCALENDAR