BEGIN:VCALENDAR
VERSION:2.0
PRODID:-//hacksw/handcal//NONSGML v1.0//EN
CALSCALE:GREGORIAN
BEGIN:VEVENT
LOCATION:Barcelona
DESCRIPTION:
DTSTART:20161028T070000Z
DTEND:20161028T070000Z
SUMMARY:Jornada del Congrés dedicada a l'Arquitectura de la Cooperació
URL;VALUE=URI:https://arquitectes.cat/ca/content/jornada-del-congr%C3%A9s-dedicada-larquitectura-de-la-cooperaci%C3%B3
DTSTAMP:20260426T051211Z
UID:69ed828b463a4
END:VEVENT
END:VCALENDAR