BEGIN:VCALENDAR
VERSION:2.0
PRODID:-//hacksw/handcal//NONSGML v1.0//EN
CALSCALE:GREGORIAN
BEGIN:VEVENT
LOCATION:Barcelona
DESCRIPTION:
DTSTART:20161027T170000Z
DTEND:20161027T170000Z
SUMMARY:Presentación del libro "Queríamos un Calatrava"
URL;VALUE=URI:https://arquitectes.cat/ca/node/25597
DTSTAMP:20260426T034456Z
UID:69ed6e18c549f
END:VEVENT
END:VCALENDAR