BEGIN:VCALENDAR
VERSION:2.0
PRODID:-//hacksw/handcal//NONSGML v1.0//EN
CALSCALE:GREGORIAN
BEGIN:VEVENT
LOCATION:Barcelona
DESCRIPTION:
DTSTART:20161021T170000Z
DTEND:20161021T170000Z
SUMMARY:8a sessió d'Ecumenòpolis: "Salam neighbor"
URL;VALUE=URI:https://arquitectes.cat/ca/content/8a-sessi%C3%B3-decumen%C3%B2polis-salam-neighbor
DTSTAMP:20260419T181301Z
UID:69e4ff0d194ac
END:VEVENT
END:VCALENDAR