BEGIN:VCALENDAR
VERSION:2.0
PRODID:-//hacksw/handcal//NONSGML v1.0//EN
CALSCALE:GREGORIAN
BEGIN:VEVENT
LOCATION:Barcelona
DESCRIPTION:
DTSTART:20161019T173000Z
DTEND:20161019T173000Z
SUMMARY:Urbanisme Tàctic
URL;VALUE=URI:https://arquitectes.cat/ca/content/urbanisme-t%C3%A0ctic
DTSTAMP:20260424T071052Z
UID:69eafb5c3da0b
END:VEVENT
END:VCALENDAR