BEGIN:VCALENDAR
VERSION:2.0
PRODID:-//hacksw/handcal//NONSGML v1.0//EN
CALSCALE:GREGORIAN
BEGIN:VEVENT
LOCATION:Barcelona
DESCRIPTION:
DTSTART:20161020T170000Z
DTEND:20161020T170000Z
SUMMARY:Diàlegs Tècnics: La Casa Puig i Cadafalch d'Argentona
URL;VALUE=URI:https://arquitectes.cat/ca/content/di%C3%A0legs-t%C3%A8cnics-la-casa-puig-i-cadafalch-dargentona
DTSTAMP:20260420T033235Z
UID:69e582336aa50
END:VEVENT
END:VCALENDAR