BEGIN:VCALENDAR
VERSION:2.0
PRODID:-//hacksw/handcal//NONSGML v1.0//EN
CALSCALE:GREGORIAN
BEGIN:VEVENT
LOCATION:Barcelona
DESCRIPTION:
DTSTART:20161020T170000Z
DTEND:20161020T170000Z
SUMMARY:La casa Puig i Cadafalch de Argentona
URL;VALUE=URI:https://arquitectes.cat/ca/node/25568
DTSTAMP:20260421T222955Z
UID:69e7de437dbeb
END:VEVENT
END:VCALENDAR