BEGIN:VCALENDAR
VERSION:2.0
PRODID:-//hacksw/handcal//NONSGML v1.0//EN
CALSCALE:GREGORIAN
BEGIN:VEVENT
LOCATION:Barcelona
DESCRIPTION:
DTSTART:20161122T160000Z
DTEND:20161122T160000Z
SUMMARY:Conferència: Juan Trias de Bes + Felipe Pich-Aguilera / FLEXBRICK
URL;VALUE=URI:https://arquitectes.cat/ca/content/confer%C3%A8ncia-juan-trias-de-bes-felipe-pich-aguilera-flexbrick
DTSTAMP:20260425T130257Z
UID:69ec9f61814b6
END:VEVENT
END:VCALENDAR