BEGIN:VCALENDAR
VERSION:2.0
PRODID:-//hacksw/handcal//NONSGML v1.0//EN
CALSCALE:GREGORIAN
BEGIN:VEVENT
LOCATION:Terrassa
DESCRIPTION:
DTSTART:20160907T070000Z
DTEND:20161027T120000Z
SUMMARY:Exposición de la 7ª Muestra de Arquitectura del Vallès
URL;VALUE=URI:https://arquitectes.cat/ca/node/25525
DTSTAMP:20260419T191927Z
UID:69e50e9fe6598
END:VEVENT
END:VCALENDAR