BEGIN:VCALENDAR
VERSION:2.0
PRODID:-//hacksw/handcal//NONSGML v1.0//EN
CALSCALE:GREGORIAN
BEGIN:VEVENT
LOCATION:Barcelona
DESCRIPTION:
DTSTART:20161006T170000Z
DTEND:20161006T170000Z
SUMMARY:Acte de lliurament dels Premis AJAC X Joves Arquitectes Catalunya
URL;VALUE=URI:https://arquitectes.cat/ca/content/acte-de-lliurament-dels-premis-ajac-x-joves-arquitectes-catalunya
DTSTAMP:20260422T090325Z
UID:69e872bd74611
END:VEVENT
END:VCALENDAR