BEGIN:VCALENDAR
VERSION:2.0
PRODID:-//hacksw/handcal//NONSGML v1.0//EN
CALSCALE:GREGORIAN
BEGIN:VEVENT
LOCATION:Barcelona
DESCRIPTION:
DTSTART:20160924T080000Z
DTEND:20160925T130000Z
SUMMARY:Portes obertes al Pavelló Mies van der Rohe i visites guiades
URL;VALUE=URI:https://arquitectes.cat/ca/content/portes-obertes-al-pavell%C3%B3-mies-van-der-rohe-i-visites-guiades
DTSTAMP:20260420T051053Z
UID:69e5993d96aed
END:VEVENT
END:VCALENDAR