BEGIN:VCALENDAR
VERSION:2.0
PRODID:-//hacksw/handcal//NONSGML v1.0//EN
CALSCALE:GREGORIAN
BEGIN:VEVENT
LOCATION:Barcelona
DESCRIPTION:
DTSTART:20161003T180000Z
DTEND:20161003T180000Z
SUMMARY:Cicle de Cinema Pantalla Pavelló: Projecció de "Pont de Varsòvia"\, de Pere Portabella
URL;VALUE=URI:https://arquitectes.cat/ca/content/cicle-de-cinema-pantalla-pavell%C3%B3-projecci%C3%B3-de-pont-de-vars%C3%B2via-de-pere-portabella
DTSTAMP:20260419T215747Z
UID:69e533bb15dac
END:VEVENT
END:VCALENDAR