BEGIN:VCALENDAR
VERSION:2.0
PRODID:-//hacksw/handcal//NONSGML v1.0//EN
CALSCALE:GREGORIAN
BEGIN:VEVENT
LOCATION:Girona
DESCRIPTION:
DTSTART:20160928T160000Z
DTEND:20160928T160000Z
SUMMARY:Taller "Fotografía arquitectura en Instagram"
URL;VALUE=URI:https://arquitectes.cat/ca/node/25469
DTSTAMP:20260419T200323Z
UID:69e518ebed76d
END:VEVENT
END:VCALENDAR