BEGIN:VCALENDAR
VERSION:2.0
PRODID:-//hacksw/handcal//NONSGML v1.0//EN
CALSCALE:GREGORIAN
BEGIN:VEVENT
LOCATION:Tarragona
DESCRIPTION:
DTSTART:20161020T070000Z
DTEND:20161020T070000Z
SUMMARY:La ciudad de "El Camp" - Jornada de análisis y debate
URL;VALUE=URI:https://arquitectes.cat/ca/node/25447
DTSTAMP:20260425T142709Z
UID:69ecb31d1c222
END:VEVENT
END:VCALENDAR