BEGIN:VCALENDAR
VERSION:2.0
PRODID:-//hacksw/handcal//NONSGML v1.0//EN
CALSCALE:GREGORIAN
BEGIN:VEVENT
LOCATION:Barcelona
DESCRIPTION:
DTSTART:20161004T170000Z
DTEND:20161004T170000Z
SUMMARY:Conferencia Agua y Metrópolis. "México: La vuelta a la ciudad lacustre" por Alberto Kalach
URL;VALUE=URI:https://arquitectes.cat/ca/node/25440
DTSTAMP:20260426T033356Z
UID:69ed6b8425062
END:VEVENT
END:VCALENDAR