BEGIN:VCALENDAR
VERSION:2.0
PRODID:-//hacksw/handcal//NONSGML v1.0//EN
CALSCALE:GREGORIAN
BEGIN:VEVENT
LOCATION:Barcelona
DESCRIPTION:
DTSTART:20161006T170000Z
DTEND:20161006T170000Z
SUMMARY:Conferència "Memoria y diseño". Nieto Sobejano Arquitectos
URL;VALUE=URI:https://arquitectes.cat/ca/content/confer%C3%A8ncia-memoria-y-dise%C3%B1o-nieto-sobejano-arquitectos
DTSTAMP:20260426T053742Z
UID:69ed8886d9f1c
END:VEVENT
END:VCALENDAR