BEGIN:VCALENDAR
VERSION:2.0
PRODID:-//hacksw/handcal//NONSGML v1.0//EN
CALSCALE:GREGORIAN
BEGIN:VEVENT
LOCATION:Tortosa
DESCRIPTION:
DTSTART:20161001T080000Z
DTEND:20161002T080000Z
SUMMARY:Arquitectour_EBRE. Viviendas modernistas
URL;VALUE=URI:https://arquitectes.cat/ca/node/25436
DTSTAMP:20260419T223808Z
UID:69e53d3066d1e
END:VEVENT
END:VCALENDAR