BEGIN:VCALENDAR
VERSION:2.0
PRODID:-//hacksw/handcal//NONSGML v1.0//EN
CALSCALE:GREGORIAN
BEGIN:VEVENT
LOCATION:Barcelona
DESCRIPTION:
DTSTART:20160926T160000Z
DTEND:20160926T160000Z
SUMMARY:Seminari de Patrimoni Sacre
URL;VALUE=URI:https://arquitectes.cat/ca/content/seminari-de-patrimoni-sacre
DTSTAMP:20260420T034318Z
UID:69e584b6d1560
END:VEVENT
END:VCALENDAR