BEGIN:VCALENDAR
VERSION:2.0
PRODID:-//hacksw/handcal//NONSGML v1.0//EN
CALSCALE:GREGORIAN
BEGIN:VEVENT
LOCATION:Barcelona
DESCRIPTION:
DTSTART:20160920T170000Z
DTEND:20160920T170000Z
SUMMARY:Presentació de l'exposició "Les vides del Pavelló: relat intermitent d’un espai essencial”
URL;VALUE=URI:https://arquitectes.cat/ca/content/presentaci%C3%B3-de-lexposici%C3%B3-les-vides-del-pavell%C3%B3-relat-intermitent-d%E2%80%99un-espai-essencial%E2%80%9D
DTSTAMP:20260419T151334Z
UID:69e4d4fee39f0
END:VEVENT
END:VCALENDAR