BEGIN:VCALENDAR
VERSION:2.0
PRODID:-//hacksw/handcal//NONSGML v1.0//EN
CALSCALE:GREGORIAN
BEGIN:VEVENT
LOCATION:Barcelona
DESCRIPTION:
DTSTART:20160929T170000Z
DTEND:20161011T180000Z
SUMMARY:Exposició del Premi Internacional de Paisatge Rosa Barba
URL;VALUE=URI:https://arquitectes.cat/ca/content/exposici%C3%B3-del-premi-internacional-de-paisatge-rosa-barba
DTSTAMP:20260422T093325Z
UID:69e879c597f8f
END:VEVENT
END:VCALENDAR