BEGIN:VCALENDAR
VERSION:2.0
PRODID:-//hacksw/handcal//NONSGML v1.0//EN
CALSCALE:GREGORIAN
BEGIN:VEVENT
LOCATION:Barcelona
DESCRIPTION:
DTSTART:20160915T104500Z
DTEND:20160915T104500Z
SUMMARY:BAC Fall 2016 lecture series: Miguel Roldán
URL;VALUE=URI:https://arquitectes.cat/ca/content/bac-fall-2016-lecture-series-miguel-rold%C3%A1n
DTSTAMP:20260423T090959Z
UID:69e9c5c76c041
END:VEVENT
END:VCALENDAR