BEGIN:VCALENDAR
VERSION:2.0
PRODID:-//hacksw/handcal//NONSGML v1.0//EN
CALSCALE:GREGORIAN
BEGIN:VEVENT
LOCATION:Lleida
DESCRIPTION:
DTSTART:20160917T073000Z
DTEND:20160917T073000Z
SUMMARY:Visita de l'AADIPA a Balaguer\, el Pla d’Almatà\, Torà i Iesso-Guissona
URL;VALUE=URI:https://arquitectes.cat/ca/content/visita-de-laadipa-balaguer-el-pla-d%E2%80%99almat%C3%A0-tor%C3%A0-i-iesso-guissona
DTSTAMP:20260423T050501Z
UID:69e98c5d1251f
END:VEVENT
END:VCALENDAR