BEGIN:VCALENDAR
VERSION:2.0
PRODID:-//hacksw/handcal//NONSGML v1.0//EN
CALSCALE:GREGORIAN
BEGIN:VEVENT
LOCATION:Barcelona
DESCRIPTION:
DTSTART:20160922T170000Z
DTEND:20160922T170000Z
SUMMARY:Espais de diàleg: La construcció de l'espai
URL;VALUE=URI:https://arquitectes.cat/ca/content/espais-de-di%C3%A0leg-la-construcci%C3%B3-de-lespai
DTSTAMP:20260421T233432Z
UID:69e7ed689e08a
END:VEVENT
END:VCALENDAR