BEGIN:VCALENDAR
VERSION:2.0
PRODID:-//hacksw/handcal//NONSGML v1.0//EN
CALSCALE:GREGORIAN
BEGIN:VEVENT
LOCATION:Barcelona
DESCRIPTION:
DTSTART:20160928T153000Z
DTEND:20160928T153000Z
SUMMARY:Presentació de publicacions
URL;VALUE=URI:https://arquitectes.cat/ca/content/presentaci%C3%B3-de-publicacions
DTSTAMP:20260419T181406Z
UID:69e4ff4eeb9fd
END:VEVENT
END:VCALENDAR