BEGIN:VCALENDAR
VERSION:2.0
PRODID:-//hacksw/handcal//NONSGML v1.0//EN
CALSCALE:GREGORIAN
BEGIN:VEVENT
LOCATION:Tarragona
DESCRIPTION:
DTSTART:20170126T173000Z
DTEND:20170126T173000Z
SUMMARY:Conferència de Fernando Menis
URL;VALUE=URI:https://arquitectes.cat/ca/content/confer%C3%A8ncia-de-fernando-menis
DTSTAMP:20260426T034233Z
UID:69ed6d897be80
END:VEVENT
END:VCALENDAR