BEGIN:VCALENDAR
VERSION:2.0
PRODID:-//hacksw/handcal//NONSGML v1.0//EN
CALSCALE:GREGORIAN
BEGIN:VEVENT
LOCATION:Barcelona
DESCRIPTION:
DTSTART:20160905T193000Z
DTEND:20160905T193000Z
SUMMARY:Ciclo de Cine Pantalla Pabellón: Proyección de "Berlín\, sinfonía de una gran ciudad"
URL;VALUE=URI:https://arquitectes.cat/ca/node/25119
DTSTAMP:20260419T203527Z
UID:69e5206fb9dfd
END:VEVENT
END:VCALENDAR