BEGIN:VCALENDAR
VERSION:2.0
PRODID:-//hacksw/handcal//NONSGML v1.0//EN
CALSCALE:GREGORIAN
BEGIN:VEVENT
LOCATION:Olot
DESCRIPTION:
DTSTART:20160817T173000Z
DTEND:20160817T173000Z
SUMMARY:Conferencia "Moixina Geografies. Àngels Margarit"
URL;VALUE=URI:https://arquitectes.cat/ca/node/25023
DTSTAMP:20260419T231052Z
UID:69e544dc710c2
END:VEVENT
END:VCALENDAR