BEGIN:VCALENDAR
VERSION:2.0
PRODID:-//hacksw/handcal//NONSGML v1.0//EN
CALSCALE:GREGORIAN
BEGIN:VEVENT
LOCATION:Tarragona
DESCRIPTION:
DTSTART:20161017T123000Z
DTEND:20170108T123000Z
SUMMARY:Exposició "NY"\, fotografies de Ferran Robusté
URL;VALUE=URI:https://arquitectes.cat/ca/content/exposici%C3%B3-ny-fotografies-de-ferran-robust%C3%A9
DTSTAMP:20260420T053425Z
UID:69e59ec1d8c6f
END:VEVENT
END:VCALENDAR